BEGIN:VCALENDAR
VERSION:2.0
PRODID:-//VIRGINIA PUBLIC LIBRARY - ECPv6.15.15//NONSGML v1.0//EN
CALSCALE:GREGORIAN
METHOD:PUBLISH
X-ORIGINAL-URL:https://www.virginiapubliclibrary.info
X-WR-CALDESC:Events for VIRGINIA PUBLIC LIBRARY
REFRESH-INTERVAL;VALUE=DURATION:PT1H
X-Robots-Tag:noindex
X-PUBLISHED-TTL:PT1H
BEGIN:VTIMEZONE
TZID:America/Chicago
BEGIN:DAYLIGHT
TZOFFSETFROM:-0600
TZOFFSETTO:-0500
TZNAME:CDT
DTSTART:20220313T080000
END:DAYLIGHT
BEGIN:STANDARD
TZOFFSETFROM:-0500
TZOFFSETTO:-0600
TZNAME:CST
DTSTART:20221106T070000
END:STANDARD
BEGIN:DAYLIGHT
TZOFFSETFROM:-0600
TZOFFSETTO:-0500
TZNAME:CDT
DTSTART:20230312T080000
END:DAYLIGHT
BEGIN:STANDARD
TZOFFSETFROM:-0500
TZOFFSETTO:-0600
TZNAME:CST
DTSTART:20231105T070000
END:STANDARD
BEGIN:DAYLIGHT
TZOFFSETFROM:-0600
TZOFFSETTO:-0500
TZNAME:CDT
DTSTART:20240310T080000
END:DAYLIGHT
BEGIN:STANDARD
TZOFFSETFROM:-0500
TZOFFSETTO:-0600
TZNAME:CST
DTSTART:20241103T070000
END:STANDARD
END:VTIMEZONE
BEGIN:VEVENT
DTSTART;TZID=America/Chicago:20230818T080000
DTEND;TZID=America/Chicago:20230818T110000
DTSTAMP:20260419T211241
CREATED:20230726T003415Z
LAST-MODIFIED:20230726T003416Z
UID:10000188-1692345600-1692356400@www.virginiapubliclibrary.info
SUMMARY:American Heart Association CPR Class
DESCRIPTION:Join this paid class to train in AHA CPR/AED First Aid located in the library event room.  Contact Scott Ankley at 218-262-9702 or email at SCOTTANKLEY@CERTSERVELLC.COM with any questions.
URL:https://www.virginiapubliclibrary.info/event/american-heart-association-cpr-class
ATTACH;FMTTYPE=application/pdf:https://www.virginiapubliclibrary.info/wp-content/uploads/2023/07/PaidClassAugust20231.pdf
END:VEVENT
BEGIN:VEVENT
DTSTART;TZID=America/Chicago:20230817T130000
DTEND;TZID=America/Chicago:20230817T143000
DTSTAMP:20260419T211241
CREATED:20230621T200840Z
LAST-MODIFIED:20230919T174729Z
UID:10000181-1692277200-1692282600@www.virginiapubliclibrary.info
SUMMARY:BOOK CLUB "The Maid" by Nita Prose
DESCRIPTION:You can request the book \n\n\n\n“The Maid” by Nita Prose \n\n\n\nvia phone 218-748-7525 or on the library website (https://www.virginiapubliclibrary.info/) \n\n\n\nand pick it up at any Arrowhead Library System location. \n\n\n\nJoin us for the Virginia Public Library Book Club! All are welcome\, whether you read all of the book\, part of the book\, or none of the book! Join us for a lively discussion and light refreshments.
URL:https://www.virginiapubliclibrary.info/event/book-club-the-maid-by-nita-prose
ATTACH;FMTTYPE=image/png:https://www.virginiapubliclibrary.info/wp-content/uploads/2023/06/Book-Club-The-Maid.png
END:VEVENT
BEGIN:VEVENT
DTSTART;TZID=America/Chicago:20230816T110000
DTEND;TZID=America/Chicago:20230816T120000
DTSTAMP:20260419T211241
CREATED:20230726T000825Z
LAST-MODIFIED:20230726T000827Z
UID:10000186-1692183600-1692187200@www.virginiapubliclibrary.info
SUMMARY:Puppet Showcase with Christopher Lutter-Gardella
DESCRIPTION:Join us for a spontaneous puppet showcase with COMPAS Teaching Artist Christopher Lutter-Gardella!  Christopher will set up a traditional hand puppet stage\, provide puppet guidance\, musical accompaniment and plain-ol’ puppet comradery (with a hand puppet of his own) to facilitate a highly improvised showcase of the unique puppet creations of the participants.  Christopher will welcome any willing puppets onstage and will help them pluck up their puppetry confidence to perform for the audience.  Free program length is 60 minutes and is geared towards kids ages 8-13.                         This program\, sponsored by Arrowhead Library System and developed by COMPAS\, is funded in part or in whole with money from Minnesota’s’ Arts and Cultural Heritage Fund (ACFH).
URL:https://www.virginiapubliclibrary.info/event/puppet-showcase-with-christopher-lutter-gardella
ATTACH;FMTTYPE=image/jpeg:https://www.virginiapubliclibrary.info/wp-content/uploads/2023/07/Legacy-Puppet-Showcase-Legacy-Tour-Virginia.jpg
END:VEVENT
BEGIN:VEVENT
DTSTART;TZID=America/Chicago:20230814T080000
DTEND;TZID=America/Chicago:20230814T110000
DTSTAMP:20260419T211241
CREATED:20230726T002050Z
LAST-MODIFIED:20230726T002052Z
UID:10000187-1692000000-1692010800@www.virginiapubliclibrary.info
SUMMARY:Free CPR Class for Teens (ages 12-17)
DESCRIPTION:Attention Teens!  Join this FREE class to train in HSI CPR/AED First Aid located in the library event room.  Only 12 seats available\, contact Scott Ankley at 218-262-9702 or email at SCOTTANKLEY@CERTSERVELLC.COM with any questions.
URL:https://www.virginiapubliclibrary.info/event/free-cpr-class-for-teens-ages-12-17
ATTACH;FMTTYPE=application/pdf:https://www.virginiapubliclibrary.info/wp-content/uploads/2023/07/FreeTeenCPRAugust2023.pdf
END:VEVENT
BEGIN:VEVENT
DTSTART;TZID=America/Chicago:20230810T053000
DTEND;TZID=America/Chicago:20230810T070000
DTSTAMP:20260419T211241
CREATED:20230427T214204Z
LAST-MODIFIED:20230517T224933Z
UID:10000166-1691645400-1691650800@www.virginiapubliclibrary.info
SUMMARY:End of Summer Fair
DESCRIPTION:Stop by the library street for a dunk tank with Virginia school staff\, outdoor games\, food trucks\, and much more!
URL:https://www.virginiapubliclibrary.info/event/end-of-summer-fair
ATTACH;FMTTYPE=image/png:https://www.virginiapubliclibrary.info/wp-content/uploads/2023/04/08-10-23-End-of-Summer-Fair.png
END:VEVENT
BEGIN:VEVENT
DTSTART;TZID=America/Chicago:20230803T110000
DTEND;TZID=America/Chicago:20230803T120000
DTSTAMP:20260419T211241
CREATED:20230726T000053Z
LAST-MODIFIED:20230731T210423Z
UID:10000185-1691060400-1691064000@www.virginiapubliclibrary.info
SUMMARY:First Thursday "DISC GOLF"
DESCRIPTION:Learn how to play disc golf and how you can checkout your very own disc golf kit from the library that can be used at any course around!
URL:https://www.virginiapubliclibrary.info/event/first-thursdays-disc-golf
ATTACH;FMTTYPE=image/png:https://www.virginiapubliclibrary.info/wp-content/uploads/2023/07/23-2.png
END:VEVENT
BEGIN:VEVENT
DTSTART;TZID=America/Chicago:20230801T110000
DTEND;TZID=America/Chicago:20230801T140000
DTSTAMP:20260419T211241
CREATED:20230427T214104Z
LAST-MODIFIED:20230517T220735Z
UID:10000165-1690887600-1690898400@www.virginiapubliclibrary.info
SUMMARY:National Night Out - Llama Storytime
DESCRIPTION:Stop by Olcott Park for a Llama Storytime featuring animals from Cook’s Country Connection (and much more).
URL:https://www.virginiapubliclibrary.info/event/national-night-out-llama-storytime
ATTACH;FMTTYPE=image/png:https://www.virginiapubliclibrary.info/wp-content/uploads/2023/04/08-01-23-Llama-Storytime1.png
END:VEVENT
BEGIN:VEVENT
DTSTART;TZID=America/Chicago:20230731T053000
DTEND;TZID=America/Chicago:20230731T063000
DTSTAMP:20260419T211241
CREATED:20230427T214001Z
LAST-MODIFIED:20230512T202506Z
UID:10000164-1690781400-1690785000@www.virginiapubliclibrary.info
SUMMARY:Rhonda Appleseed & the Tree That Learned
DESCRIPTION:Join the Traveling Lantern Theater Company at the library for their interactive play.
URL:https://www.virginiapubliclibrary.info/event/rhonda-appleseed-the-tree-that-learned
ATTACH;FMTTYPE=image/png:https://www.virginiapubliclibrary.info/wp-content/uploads/2023/04/07-31-23-Rhonda-Appleseed.png
END:VEVENT
BEGIN:VEVENT
DTSTART;TZID=America/Chicago:20230727T053000
DTEND;TZID=America/Chicago:20230727T070000
DTSTAMP:20260419T211241
CREATED:20230427T213904Z
LAST-MODIFIED:20230517T225008Z
UID:10000163-1690435800-1690441200@www.virginiapubliclibrary.info
SUMMARY:Big Truck Day: Working Trucks
DESCRIPTION:Visit the library street to tour trucks from your community\, and to make an art project with the Lyric Center.
URL:https://www.virginiapubliclibrary.info/event/big-truck-day-working-trucks
ATTACH;FMTTYPE=image/png:https://www.virginiapubliclibrary.info/wp-content/uploads/2023/04/07-27-23-Big-Truck-Day.png
END:VEVENT
BEGIN:VEVENT
DTSTART;TZID=America/Chicago:20230725T053000
DTEND;TZID=America/Chicago:20230725T063000
DTSTAMP:20260419T211241
CREATED:20230512T201009Z
LAST-MODIFIED:20230512T201011Z
UID:10000173-1690263000-1690266600@www.virginiapubliclibrary.info
SUMMARY:Summer Storytimes
DESCRIPTION:Join us on the library lawn for music\, dancing\, and stories! \n\n\n\nThese events will combine Baby (0-2 yrs) and Family (0-5 yrs) storytimes\, and all are welcome to attend.
URL:https://www.virginiapubliclibrary.info/event/summer-storytimes/2023-07-25
ATTACH;FMTTYPE=image/png:https://www.virginiapubliclibrary.info/wp-content/uploads/2023/05/2023-Summer-Storytimes.png
END:VEVENT
BEGIN:VEVENT
DTSTART;TZID=America/Chicago:20230720T093000
DTEND;TZID=America/Chicago:20230720T110000
DTSTAMP:20260419T211241
CREATED:20230427T213155Z
LAST-MODIFIED:20230517T221129Z
UID:10000162-1689845400-1689850800@www.virginiapubliclibrary.info
SUMMARY:Rock Painting at Virginia Market Square
DESCRIPTION:Stop by the Farmers Market on Silver Lake to paint positivity rocks with the Lyric Center\, Library\, and Friends of the Library.
URL:https://www.virginiapubliclibrary.info/event/rock-painting-at-virginia-market-square
LOCATION:Virginia Market Square\, 111 S 9th Ave\, Virginia\, Minnesota\, 55792\, United States
ATTACH;FMTTYPE=image/png:https://www.virginiapubliclibrary.info/wp-content/uploads/2023/04/07-20-23-Rock-Painting-at-Farmers-Market.png
END:VEVENT
BEGIN:VEVENT
DTSTART;TZID=America/Chicago:20230719T090000
DTEND;TZID=America/Chicago:20230719T100000
DTSTAMP:20260419T211241
CREATED:20230427T213004Z
LAST-MODIFIED:20230512T202013Z
UID:10000161-1689757200-1689760800@www.virginiapubliclibrary.info
SUMMARY:Soudan Underground Mine State Park
DESCRIPTION:Visit the library to learn about the geology of the Soudan Underground Mine in an event for middle graders (and up)
URL:https://www.virginiapubliclibrary.info/event/soudan-underground-mine-state-park-2
ATTACH;FMTTYPE=image/png:https://www.virginiapubliclibrary.info/wp-content/uploads/2023/04/07-19-23-Soudan-Mine-Geology.png
END:VEVENT
BEGIN:VEVENT
DTSTART;TZID=America/Chicago:20230713T053000
DTEND;TZID=America/Chicago:20230713T063000
DTSTAMP:20260419T211241
CREATED:20230427T212827Z
LAST-MODIFIED:20230517T225043Z
UID:10000160-1689226200-1689229800@www.virginiapubliclibrary.info
SUMMARY:Bubble Wonders
DESCRIPTION:Visit the library to be amazed by Geoff Akin’s Legacy funded interactive bubble show.
URL:https://www.virginiapubliclibrary.info/event/bubble-wonders
ATTACH;FMTTYPE=image/png:https://www.virginiapubliclibrary.info/wp-content/uploads/2023/04/07-13-23-Bubble-Wonders.png
END:VEVENT
BEGIN:VEVENT
DTSTART;TZID=America/Chicago:20230712T053000
DTEND;TZID=America/Chicago:20230712T063000
DTSTAMP:20260419T211241
CREATED:20230427T212724Z
LAST-MODIFIED:20230512T201138Z
UID:10000159-1689139800-1689143400@www.virginiapubliclibrary.info
SUMMARY:Kids for Kids Concert
DESCRIPTION:Visit the library to hear young musicians from the Northern Lights Music Festival perform classical music.
URL:https://www.virginiapubliclibrary.info/event/kids-for-kids-concert
ATTACH;FMTTYPE=image/png:https://www.virginiapubliclibrary.info/wp-content/uploads/2023/04/07-12-23-Kids-for-Kids-Concert.png
END:VEVENT
BEGIN:VEVENT
DTSTART;TZID=America/Chicago:20230710T070000
DTEND;TZID=America/Chicago:20230710T080000
DTSTAMP:20260419T211241
CREATED:20230622T023923Z
LAST-MODIFIED:20230628T005936Z
UID:10000182-1688972400-1688976000@www.virginiapubliclibrary.info
SUMMARY:Relationships over Politics- Connecting with Friends and Family
DESCRIPTION:Is it possible to use Living Room Conversations with our families and close friends?How might we hold the tension of our differences while working to repair connectionand not further deepen division within our circle of family and friends? All sorts ofpeople tell us they want to use the skills they practice in Living Room Conversations tohelp restore connection with friends and family.  So\, let’s use a Living RoomConversation to talk about just that!  This Living Room Conversation will help us listenand learn about where we have different opinions\, along with shared ideas about howto best navigate time with family & friends (who may not share our view of the world).
URL:https://www.virginiapubliclibrary.info/event/relationships-over-politics-connecting-with-friends-and-family
ATTACH;FMTTYPE=image/jpeg:https://www.virginiapubliclibrary.info/wp-content/uploads/2023/06/Living-Room-Converstions.jpg
END:VEVENT
BEGIN:VEVENT
DTSTART;TZID=America/Chicago:20230704T050000
DTEND;TZID=America/Chicago:20230704T130000
DTSTAMP:20260419T211241
CREATED:20230207T013018Z
LAST-MODIFIED:20230427T215209Z
UID:10000132-1688446800-1688475600@www.virginiapubliclibrary.info
SUMMARY:LIBRARY CLOSED
DESCRIPTION:The library is closed in observance of the Fourth of July.
URL:https://www.virginiapubliclibrary.info/event/library-closed-6
ATTACH;FMTTYPE=image/png:https://www.virginiapubliclibrary.info/wp-content/uploads/2023/02/4th-of-July.png
END:VEVENT
BEGIN:VEVENT
DTSTART;TZID=America/Chicago:20230629T090000
DTEND;TZID=America/Chicago:20230629T100000
DTSTAMP:20260419T211241
CREATED:20230427T212610Z
LAST-MODIFIED:20230517T221003Z
UID:10000158-1688029200-1688032800@www.virginiapubliclibrary.info
SUMMARY:Anime/Manga Art at the Lyric Center
DESCRIPTION:Visit the Lyric Center to draw in Anime style with artist Amber Markoto\, and to make perler bead creations.
URL:https://www.virginiapubliclibrary.info/event/anime-manga-art-at-the-lyric-center
ATTACH;FMTTYPE=image/png:https://www.virginiapubliclibrary.info/wp-content/uploads/2023/04/06-29-23-AnimeManga-Art.png
END:VEVENT
BEGIN:VEVENT
DTSTART;TZID=America/Chicago:20230622T053000
DTEND;TZID=America/Chicago:20230622T063000
DTSTAMP:20260419T211241
CREATED:20230427T212455Z
LAST-MODIFIED:20230517T220812Z
UID:10000157-1687411800-1687415400@www.virginiapubliclibrary.info
SUMMARY:Ant and the Grasshopper Theater
DESCRIPTION:Join Climb Theater performers at the library for a Legacy funded interactive play on the classic Aesop fable.
URL:https://www.virginiapubliclibrary.info/event/ant-and-the-grasshopper-theater
ATTACH;FMTTYPE=image/png:https://www.virginiapubliclibrary.info/wp-content/uploads/2023/04/06-22-23-Ant-and-the-Grasshopper.png
END:VEVENT
BEGIN:VEVENT
DTSTART;TZID=America/Chicago:20230619T050000
DTEND;TZID=America/Chicago:20230619T130000
DTSTAMP:20260419T211241
CREATED:20230602T025623Z
LAST-MODIFIED:20230602T025624Z
UID:10000176-1687150800-1687179600@www.virginiapubliclibrary.info
SUMMARY:LIBRARY CLOSED
DESCRIPTION:The library is closed in observance of Juneteenth.
URL:https://www.virginiapubliclibrary.info/event/library-closed-8
END:VEVENT
BEGIN:VEVENT
DTSTART;TZID=America/Chicago:20230615T053000
DTEND;TZID=America/Chicago:20230615T063000
DTSTAMP:20260419T211241
CREATED:20230427T212340Z
LAST-MODIFIED:20230512T201349Z
UID:10000156-1686807000-1686810600@www.virginiapubliclibrary.info
SUMMARY:Soudan Underground Mine State Park
DESCRIPTION:Visit the library to learn about the history of the Soudan Underground Mine\, and learn how to borrow a state park pass.
URL:https://www.virginiapubliclibrary.info/event/soudan-underground-mine-state-park
ATTACH;FMTTYPE=image/png:https://www.virginiapubliclibrary.info/wp-content/uploads/2023/04/06-15-23-Soudan-Mine-History.png
END:VEVENT
BEGIN:VEVENT
DTSTART;TZID=America/Chicago:20230610T053000
DTEND;TZID=America/Chicago:20230610T070000
DTSTAMP:20260419T211241
CREATED:20230415T212139Z
LAST-MODIFIED:20230512T201833Z
UID:10000152-1686375000-1686380400@www.virginiapubliclibrary.info
SUMMARY:Summer Reading Kickoff Event
DESCRIPTION:Stop by the library for a free book (all ages) and to attend Legacy funded music event\, Story Time with Chione.
URL:https://www.virginiapubliclibrary.info/event/summer-reading-kickoff-event
ATTACH;FMTTYPE=image/png:https://www.virginiapubliclibrary.info/wp-content/uploads/2023/04/06-10-23-Summer-Reading-Kickoff.png
END:VEVENT
BEGIN:VEVENT
DTSTART;TZID=America/Chicago:20230608T053000
DTEND;TZID=America/Chicago:20230608T063000
DTSTAMP:20260419T211241
CREATED:20230427T212056Z
LAST-MODIFIED:20230512T201503Z
UID:10000155-1686202200-1686205800@www.virginiapubliclibrary.info
SUMMARY:Intro to Birding with Amy Simso Dean
DESCRIPTION:Join birding expert Amy at the library for tips and tricks to getting the most out of your bird watching experience.
URL:https://www.virginiapubliclibrary.info/event/intro-to-birding-with-amy-simso-dean
ATTACH;FMTTYPE=image/png:https://www.virginiapubliclibrary.info/wp-content/uploads/2023/04/06-08-23-Intro-to-Birding.png
END:VEVENT
BEGIN:VEVENT
DTSTART;TZID=America/Chicago:20230529T050000
DTEND;TZID=America/Chicago:20230529T130000
DTSTAMP:20260419T211241
CREATED:20230126T013015Z
LAST-MODIFIED:20230518T034350Z
UID:10000094-1685336400-1685365200@www.virginiapubliclibrary.info
SUMMARY:LIBRARY CLOSED
DESCRIPTION:The library is closed in observance of Memorial Day.
URL:https://www.virginiapubliclibrary.info/event/library-closed-2
ATTACH;FMTTYPE=image/png:https://www.virginiapubliclibrary.info/wp-content/uploads/2023/01/Memorial-Day-1.png
END:VEVENT
BEGIN:VEVENT
DTSTART;TZID=America/Chicago:20230523T050000
DTEND;TZID=America/Chicago:20230523T130000
DTSTAMP:20260419T211241
CREATED:20230517T220652Z
LAST-MODIFIED:20230517T220655Z
UID:10000175-1684818000-1684846800@www.virginiapubliclibrary.info
SUMMARY:Library Closed
DESCRIPTION:The library is closed Tuesday\, May 23rd for staff training.
URL:https://www.virginiapubliclibrary.info/event/library-closed-7
ATTACH;FMTTYPE=image/png:https://www.virginiapubliclibrary.info/wp-content/uploads/2023/05/The-library-will-be-closed-Wednesday-August-17th-for-staff-training-11-×-8.5-in-8.5-×-11-in1.png
END:VEVENT
BEGIN:VEVENT
DTSTART;TZID=America/Chicago:20230517T093000
DTEND;TZID=America/Chicago:20230517T110000
DTSTAMP:20260419T211241
CREATED:20230316T195213Z
LAST-MODIFIED:20230316T195741Z
UID:10000142-1684315800-1684321200@www.virginiapubliclibrary.info
SUMMARY:Game Zone
DESCRIPTION:Wii games and board games will be set up throughout the library to play!
URL:https://www.virginiapubliclibrary.info/event/game-zone-4/2023-05-17
ATTACH;FMTTYPE=image/png:https://www.virginiapubliclibrary.info/wp-content/uploads/2023/03/2023-Game-Zone-APR-May-Instagram-Post-Square.png
END:VEVENT
BEGIN:VEVENT
DTSTART;TZID=America/Chicago:20230517T070000
DTEND;TZID=America/Chicago:20230517T080000
DTSTAMP:20260419T211241
CREATED:20230415T204858Z
LAST-MODIFIED:20230426T025550Z
UID:10000122-1684306800-1684310400@www.virginiapubliclibrary.info
SUMMARY:Gardening Series: Soil
DESCRIPTION:Join Janna Goerdt\, from Fat Chicken Farm\, in the library event room.  \n\n\n\nSoil! It is time to get dirty. Join Janna to learn the basics of soil structure\, about the living microbial life in the soil\, and how to improve the soil in the home garden. A good garden starts with good soil! \n\n\n\nNo sign up necessary\, just come and join the gardening fun!
URL:https://www.virginiapubliclibrary.info/event/gardening-series-3
ATTACH;FMTTYPE=image/png:https://www.virginiapubliclibrary.info/wp-content/uploads/2023/04/Copy-of-Gardening-Series-2.png
END:VEVENT
BEGIN:VEVENT
DTSTART;TZID=America/Chicago:20230516T053000
DTEND;TZID=America/Chicago:20230516T063000
DTSTAMP:20260419T211241
CREATED:20230324T021026Z
LAST-MODIFIED:20230324T021028Z
UID:10000145-1684215000-1684218600@www.virginiapubliclibrary.info
SUMMARY:Baby Play Day
DESCRIPTION:Join us in the Children’s Room for free play Tuesdays\, featuring special toys and activities! These play days are designed for children 0-2 and their caregivers\, although older children can also participate.
URL:https://www.virginiapubliclibrary.info/event/baby-play-day-2
ATTACH;FMTTYPE=image/png:https://www.virginiapubliclibrary.info/wp-content/uploads/2023/03/2023-Apr-May-Tues-Baby-Play-Day-events-Instagram-Post-Square.png
END:VEVENT
BEGIN:VEVENT
DTSTART;TZID=America/Chicago:20230515T060000
DTEND;TZID=America/Chicago:20230515T070000
DTSTAMP:20260419T211241
CREATED:20230415T204246Z
LAST-MODIFIED:20230415T204249Z
UID:10000151-1684130400-1684134000@www.virginiapubliclibrary.info
SUMMARY:One-On-One Libby Tutorial Session
DESCRIPTION:No sign up necessary\, just bring your device which has the Libby app installed and arrive between the hour on the dates listed to begin learning more about Libby and how to use the app!
URL:https://www.virginiapubliclibrary.info/event/one-on-one-libby-tutorial-session/2023-05-15
ATTACH;FMTTYPE=image/png:https://www.virginiapubliclibrary.info/wp-content/uploads/2023/04/One-On-One-Libby-Tutorial-Sessions.png
END:VEVENT
BEGIN:VEVENT
DTSTART;TZID=America/Chicago:20230513T053000
DTEND;TZID=America/Chicago:20230513T073000
DTSTAMP:20260419T211241
CREATED:20230301T224541Z
LAST-MODIFIED:20230301T224542Z
UID:10000136-1683955800-1683963000@www.virginiapubliclibrary.info
SUMMARY:Building Block Free Play
DESCRIPTION:Join us on the Library Upper Level to build with our building blocks\, Duplos\, and other toys!
URL:https://www.virginiapubliclibrary.info/event/building-block-free-play-4
ATTACH;FMTTYPE=image/png:https://www.virginiapubliclibrary.info/wp-content/uploads/2023/03/5-13-Lego-Pop-Up-Event.png
END:VEVENT
BEGIN:VEVENT
DTSTART;TZID=America/Chicago:20230512T053000
DTEND;TZID=America/Chicago:20230512T070000
DTSTAMP:20260419T211241
CREATED:20230126T042457Z
LAST-MODIFIED:20230228T230259Z
UID:10000109-1683869400-1683874800@www.virginiapubliclibrary.info
SUMMARY:Play Day
DESCRIPTION:Join us in the Children’s Room for free play Fridays\, featuring special toys and activities! These play days are designed for children 0-5 and their caregivers\, although older children can also participate.
URL:https://www.virginiapubliclibrary.info/event/play-day
ATTACH;FMTTYPE=image/png:https://www.virginiapubliclibrary.info/wp-content/uploads/2023/01/2023-Mar-May-Play-Day-events-Instagram-Post-Square.png
END:VEVENT
END:VCALENDAR