BEGIN:VCALENDAR
VERSION:2.0
PRODID:-//VIRGINIA PUBLIC LIBRARY - ECPv6.15.15//NONSGML v1.0//EN
CALSCALE:GREGORIAN
METHOD:PUBLISH
X-WR-CALNAME:VIRGINIA PUBLIC LIBRARY
X-ORIGINAL-URL:https://www.virginiapubliclibrary.info
X-WR-CALDESC:Events for VIRGINIA PUBLIC LIBRARY
REFRESH-INTERVAL;VALUE=DURATION:PT1H
X-Robots-Tag:noindex
X-PUBLISHED-TTL:PT1H
BEGIN:VTIMEZONE
TZID:America/Chicago
BEGIN:DAYLIGHT
TZOFFSETFROM:-0600
TZOFFSETTO:-0500
TZNAME:CDT
DTSTART:20220313T080000
END:DAYLIGHT
BEGIN:STANDARD
TZOFFSETFROM:-0500
TZOFFSETTO:-0600
TZNAME:CST
DTSTART:20221106T070000
END:STANDARD
BEGIN:DAYLIGHT
TZOFFSETFROM:-0600
TZOFFSETTO:-0500
TZNAME:CDT
DTSTART:20230312T080000
END:DAYLIGHT
BEGIN:STANDARD
TZOFFSETFROM:-0500
TZOFFSETTO:-0600
TZNAME:CST
DTSTART:20231105T070000
END:STANDARD
BEGIN:DAYLIGHT
TZOFFSETFROM:-0600
TZOFFSETTO:-0500
TZNAME:CDT
DTSTART:20240310T080000
END:DAYLIGHT
BEGIN:STANDARD
TZOFFSETFROM:-0500
TZOFFSETTO:-0600
TZNAME:CST
DTSTART:20241103T070000
END:STANDARD
END:VTIMEZONE
BEGIN:VEVENT
DTSTART;TZID=America/Chicago:20230610T053000
DTEND;TZID=America/Chicago:20230610T070000
DTSTAMP:20260420T000245
CREATED:20230415T212139Z
LAST-MODIFIED:20230512T201833Z
UID:10000152-1686375000-1686380400@www.virginiapubliclibrary.info
SUMMARY:Summer Reading Kickoff Event
DESCRIPTION:Stop by the library for a free book (all ages) and to attend Legacy funded music event\, Story Time with Chione.
URL:https://www.virginiapubliclibrary.info/event/summer-reading-kickoff-event
ATTACH;FMTTYPE=image/png:https://www.virginiapubliclibrary.info/wp-content/uploads/2023/04/06-10-23-Summer-Reading-Kickoff.png
END:VEVENT
BEGIN:VEVENT
DTSTART;TZID=America/Chicago:20230608T053000
DTEND;TZID=America/Chicago:20230608T063000
DTSTAMP:20260420T000245
CREATED:20230427T212056Z
LAST-MODIFIED:20230512T201503Z
UID:10000155-1686202200-1686205800@www.virginiapubliclibrary.info
SUMMARY:Intro to Birding with Amy Simso Dean
DESCRIPTION:Join birding expert Amy at the library for tips and tricks to getting the most out of your bird watching experience.
URL:https://www.virginiapubliclibrary.info/event/intro-to-birding-with-amy-simso-dean
ATTACH;FMTTYPE=image/png:https://www.virginiapubliclibrary.info/wp-content/uploads/2023/04/06-08-23-Intro-to-Birding.png
END:VEVENT
BEGIN:VEVENT
DTSTART;TZID=America/Chicago:20230529T050000
DTEND;TZID=America/Chicago:20230529T130000
DTSTAMP:20260420T000245
CREATED:20230126T013015Z
LAST-MODIFIED:20230518T034350Z
UID:10000094-1685336400-1685365200@www.virginiapubliclibrary.info
SUMMARY:LIBRARY CLOSED
DESCRIPTION:The library is closed in observance of Memorial Day.
URL:https://www.virginiapubliclibrary.info/event/library-closed-2
ATTACH;FMTTYPE=image/png:https://www.virginiapubliclibrary.info/wp-content/uploads/2023/01/Memorial-Day-1.png
END:VEVENT
BEGIN:VEVENT
DTSTART;TZID=America/Chicago:20230523T050000
DTEND;TZID=America/Chicago:20230523T130000
DTSTAMP:20260420T000245
CREATED:20230517T220652Z
LAST-MODIFIED:20230517T220655Z
UID:10000175-1684818000-1684846800@www.virginiapubliclibrary.info
SUMMARY:Library Closed
DESCRIPTION:The library is closed Tuesday\, May 23rd for staff training.
URL:https://www.virginiapubliclibrary.info/event/library-closed-7
ATTACH;FMTTYPE=image/png:https://www.virginiapubliclibrary.info/wp-content/uploads/2023/05/The-library-will-be-closed-Wednesday-August-17th-for-staff-training-11-×-8.5-in-8.5-×-11-in1.png
END:VEVENT
BEGIN:VEVENT
DTSTART;TZID=America/Chicago:20230517T093000
DTEND;TZID=America/Chicago:20230517T110000
DTSTAMP:20260420T000245
CREATED:20230316T195213Z
LAST-MODIFIED:20230316T195741Z
UID:10000142-1684315800-1684321200@www.virginiapubliclibrary.info
SUMMARY:Game Zone
DESCRIPTION:Wii games and board games will be set up throughout the library to play!
URL:https://www.virginiapubliclibrary.info/event/game-zone-4/2023-05-17
ATTACH;FMTTYPE=image/png:https://www.virginiapubliclibrary.info/wp-content/uploads/2023/03/2023-Game-Zone-APR-May-Instagram-Post-Square.png
END:VEVENT
BEGIN:VEVENT
DTSTART;TZID=America/Chicago:20230517T070000
DTEND;TZID=America/Chicago:20230517T080000
DTSTAMP:20260420T000245
CREATED:20230415T204858Z
LAST-MODIFIED:20230426T025550Z
UID:10000122-1684306800-1684310400@www.virginiapubliclibrary.info
SUMMARY:Gardening Series: Soil
DESCRIPTION:Join Janna Goerdt\, from Fat Chicken Farm\, in the library event room.  \n\n\n\nSoil! It is time to get dirty. Join Janna to learn the basics of soil structure\, about the living microbial life in the soil\, and how to improve the soil in the home garden. A good garden starts with good soil! \n\n\n\nNo sign up necessary\, just come and join the gardening fun!
URL:https://www.virginiapubliclibrary.info/event/gardening-series-3
ATTACH;FMTTYPE=image/png:https://www.virginiapubliclibrary.info/wp-content/uploads/2023/04/Copy-of-Gardening-Series-2.png
END:VEVENT
BEGIN:VEVENT
DTSTART;TZID=America/Chicago:20230516T053000
DTEND;TZID=America/Chicago:20230516T063000
DTSTAMP:20260420T000245
CREATED:20230324T021026Z
LAST-MODIFIED:20230324T021028Z
UID:10000145-1684215000-1684218600@www.virginiapubliclibrary.info
SUMMARY:Baby Play Day
DESCRIPTION:Join us in the Children’s Room for free play Tuesdays\, featuring special toys and activities! These play days are designed for children 0-2 and their caregivers\, although older children can also participate.
URL:https://www.virginiapubliclibrary.info/event/baby-play-day-2
ATTACH;FMTTYPE=image/png:https://www.virginiapubliclibrary.info/wp-content/uploads/2023/03/2023-Apr-May-Tues-Baby-Play-Day-events-Instagram-Post-Square.png
END:VEVENT
BEGIN:VEVENT
DTSTART;TZID=America/Chicago:20230515T060000
DTEND;TZID=America/Chicago:20230515T070000
DTSTAMP:20260420T000245
CREATED:20230415T204246Z
LAST-MODIFIED:20230415T204249Z
UID:10000151-1684130400-1684134000@www.virginiapubliclibrary.info
SUMMARY:One-On-One Libby Tutorial Session
DESCRIPTION:No sign up necessary\, just bring your device which has the Libby app installed and arrive between the hour on the dates listed to begin learning more about Libby and how to use the app!
URL:https://www.virginiapubliclibrary.info/event/one-on-one-libby-tutorial-session/2023-05-15
ATTACH;FMTTYPE=image/png:https://www.virginiapubliclibrary.info/wp-content/uploads/2023/04/One-On-One-Libby-Tutorial-Sessions.png
END:VEVENT
BEGIN:VEVENT
DTSTART;TZID=America/Chicago:20230513T053000
DTEND;TZID=America/Chicago:20230513T073000
DTSTAMP:20260420T000245
CREATED:20230301T224541Z
LAST-MODIFIED:20230301T224542Z
UID:10000136-1683955800-1683963000@www.virginiapubliclibrary.info
SUMMARY:Building Block Free Play
DESCRIPTION:Join us on the Library Upper Level to build with our building blocks\, Duplos\, and other toys!
URL:https://www.virginiapubliclibrary.info/event/building-block-free-play-4
ATTACH;FMTTYPE=image/png:https://www.virginiapubliclibrary.info/wp-content/uploads/2023/03/5-13-Lego-Pop-Up-Event.png
END:VEVENT
BEGIN:VEVENT
DTSTART;TZID=America/Chicago:20230512T053000
DTEND;TZID=America/Chicago:20230512T070000
DTSTAMP:20260420T000245
CREATED:20230126T042457Z
LAST-MODIFIED:20230228T230259Z
UID:10000109-1683869400-1683874800@www.virginiapubliclibrary.info
SUMMARY:Play Day
DESCRIPTION:Join us in the Children’s Room for free play Fridays\, featuring special toys and activities! These play days are designed for children 0-5 and their caregivers\, although older children can also participate.
URL:https://www.virginiapubliclibrary.info/event/play-day
ATTACH;FMTTYPE=image/png:https://www.virginiapubliclibrary.info/wp-content/uploads/2023/01/2023-Mar-May-Play-Day-events-Instagram-Post-Square.png
END:VEVENT
BEGIN:VEVENT
DTSTART;TZID=America/Chicago:20230510T093000
DTEND;TZID=America/Chicago:20230510T110000
DTSTAMP:20260420T000245
CREATED:20230324T021332Z
LAST-MODIFIED:20230324T021334Z
UID:10000146-1683711000-1683716400@www.virginiapubliclibrary.info
SUMMARY:Anime/Manga Club: Crafts\, Bingo\, and Snacks
DESCRIPTION:Try origami or koinobori crafts\, play manga and anime character bingo\, and try snacks from other countries! This event is designed for teens and tweens\, but is open to all ages.
URL:https://www.virginiapubliclibrary.info/event/anime-manga-club-crafts-bingo-and-snacks
ATTACH;FMTTYPE=image/png:https://www.virginiapubliclibrary.info/wp-content/uploads/2023/03/05-10-23-AnimeManga-Club-Sampler-Instagram-Post-Square.png
END:VEVENT
BEGIN:VEVENT
DTSTART;TZID=America/Chicago:20230509T123000
DTEND;TZID=America/Chicago:20230509T150000
DTSTAMP:20260420T000245
CREATED:20230505T021513Z
LAST-MODIFIED:20230505T021515Z
UID:10000167-1683635400-1683644400@www.virginiapubliclibrary.info
SUMMARY:Friends of the Library Annual meeting
DESCRIPTION:Tickets for this event are sold at the library’s main desk.  There will be Hors D’oeuvres and a cash bar along with the Friends of the Library Annual presentation.
URL:https://www.virginiapubliclibrary.info/event/friends-of-the-library-annual-meeting
LOCATION:Iron Trail Motors Event Center\, 919 6th St S\, Virginia\, Minnesota\, 55792\, United States
END:VEVENT
BEGIN:VEVENT
DTSTART;TZID=America/Chicago:20230504T080000
DTEND;TZID=America/Chicago:20230504T090000
DTSTAMP:20260420T000245
CREATED:20230331T213937Z
LAST-MODIFIED:20230418T212346Z
UID:10000147-1683187200-1683190800@www.virginiapubliclibrary.info
SUMMARY:BOOK CLUB "The Fault in Our Stars"
DESCRIPTION:Read the book or watch the movie adaptation of The Fault in our Stars by John Green and join us for the Virginia Public Library Book Club! All are welcome\, whether you read all of the book\, part of the book\, or none of the book! Join us for a lively discussion and light refreshments.
URL:https://www.virginiapubliclibrary.info/event/book-club-the-fault-in-our-stars
ATTACH;FMTTYPE=image/png:https://www.virginiapubliclibrary.info/wp-content/uploads/2023/03/Copy-of-February-23rd-•-100-PM-to-200-PM-Community-Center-Function-Room-B1.png
END:VEVENT
BEGIN:VEVENT
DTSTART;TZID=America/Chicago:20230429T100000
DTEND;TZID=America/Chicago:20230429T140000
DTSTAMP:20260420T000245
CREATED:20230418T220051Z
LAST-MODIFIED:20230919T175016Z
UID:10000154-1682762400-1682776800@www.virginiapubliclibrary.info
SUMMARY:Final Day of National Library Week
DESCRIPTION:National Library Week starts Sunday\, April 23rd and ends on Saturday\, April 29th!
URL:https://www.virginiapubliclibrary.info/event/final-day-of-national-library-week
END:VEVENT
BEGIN:VEVENT
DTSTART;TZID=America/Chicago:20230428T053000
DTEND;TZID=America/Chicago:20230428T070000
DTSTAMP:20260420T000245
CREATED:20230126T042521Z
LAST-MODIFIED:20230228T230748Z
UID:10000108-1682659800-1682665200@www.virginiapubliclibrary.info
SUMMARY:Play Day
DESCRIPTION:Join us in the Children’s Room for free play Fridays\, featuring special toys and activities! These play days are designed for children 0-5 and their caregivers\, although older children can also participate.
URL:https://www.virginiapubliclibrary.info/event/play-day-2
ATTACH;FMTTYPE=image/png:https://www.virginiapubliclibrary.info/wp-content/uploads/2023/01/2023-Mar-May-Play-Day-events-Instagram-Post-Square.png
END:VEVENT
BEGIN:VEVENT
DTSTART;TZID=America/Chicago:20230427T070000
DTEND;TZID=America/Chicago:20230427T090000
DTSTAMP:20260420T000245
CREATED:20230126T223025Z
LAST-MODIFIED:20230405T202957Z
UID:10000123-1682578800-1682586000@www.virginiapubliclibrary.info
SUMMARY:Book Lover's Tea w/ guest Jim Perlman
DESCRIPTION:Publisher Jim Perlman from Holy Cow! Press will be presenting at the event and answering questions you may have about his work. \n\n\n\nRegistration for this event will be required.  Call 218-748-7525 to register for this event or be put on the waitlist.
URL:https://www.virginiapubliclibrary.info/event/book-lovers-tea
ATTACH;FMTTYPE=image/png:https://www.virginiapubliclibrary.info/wp-content/uploads/2023/01/Book-Lovers-Tea.png
END:VEVENT
BEGIN:VEVENT
DTSTART;TZID=America/Chicago:20230426T093000
DTEND;TZID=America/Chicago:20230426T103000
DTSTAMP:20260420T000245
CREATED:20230404T194424Z
LAST-MODIFIED:20230404T194425Z
UID:10000148-1682501400-1682505000@www.virginiapubliclibrary.info
SUMMARY:Disney Moana Jr. Teaser event
DESCRIPTION:Join the cast and crew of the Lyric Center for the Arts’ Disney Moana Jr. musical for a preview of songs from the show\, and for free Moana Jr. ticket giveaways! The performance will be held on the upper level of the library\, during National Library Week.
URL:https://www.virginiapubliclibrary.info/event/disney-moana-jr-teaser-event
ATTACH;FMTTYPE=image/png:https://www.virginiapubliclibrary.info/wp-content/uploads/2023/04/4-26-23-MoanaLibraryIG.png
END:VEVENT
BEGIN:VEVENT
DTSTART;TZID=America/Chicago:20230425T070000
DTEND;TZID=America/Chicago:20230425T073000
DTSTAMP:20260420T000245
CREATED:20230206T234246Z
LAST-MODIFIED:20230420T014756Z
UID:10000131-1682406000-1682407800@www.virginiapubliclibrary.info
SUMMARY:Adult Painting Club Exhibit
DESCRIPTION:Refreshments will be served.  Come and join us to see what has been happening at the library!
URL:https://www.virginiapubliclibrary.info/event/adult-painting-club-exhibit
ATTACH;FMTTYPE=image/png:https://www.virginiapubliclibrary.info/wp-content/uploads/2023/02/Copy-of-Your-paragraph-text.png
END:VEVENT
BEGIN:VEVENT
DTSTART;TZID=America/Chicago:20230425T053000
DTEND;TZID=America/Chicago:20230425T063000
DTSTAMP:20260420T000245
CREATED:20230113T030410Z
LAST-MODIFIED:20230228T231228Z
UID:10000075-1682400600-1682404200@www.virginiapubliclibrary.info
SUMMARY:Baby Storytime (0-18 MO)
DESCRIPTION:Baby Storytimes are developed for babies and their caregivers\, and will include lots of movement\, sensory crafts\, and play time!
URL:https://www.virginiapubliclibrary.info/event/baby-storytime-0-18-mo/2023-04-25
ATTACH;FMTTYPE=image/png:https://www.virginiapubliclibrary.info/wp-content/uploads/2023/01/2023-Spring-Baby-Storytimes-poster-with-dates-Instagram-Post-Square.png
END:VEVENT
BEGIN:VEVENT
DTSTART;TZID=America/Chicago:20230423T050000
DTEND;TZID=America/Chicago:20230423T130000
DTSTAMP:20260420T000245
CREATED:20230418T215940Z
LAST-MODIFIED:20230420T014633Z
UID:10000153-1682226000-1682254800@www.virginiapubliclibrary.info
SUMMARY:Start of National Library Week 2023
DESCRIPTION:National Library Week starts Sunday\, April 23rd and ends on Saturday\, April 29th!
URL:https://www.virginiapubliclibrary.info/event/start-of-national-library-week-2023
ATTACH;FMTTYPE=image/png:https://www.virginiapubliclibrary.info/wp-content/uploads/2023/04/Tuesday-April-25th-@-1030am-Baby-Storytime-0-18-MO-Friday-April-28th-@-1030am-Play-Day-11-×-8.5-in.png
END:VEVENT
BEGIN:VEVENT
DTSTART;TZID=America/Chicago:20230422T053000
DTEND;TZID=America/Chicago:20230422T073000
DTSTAMP:20260420T000245
CREATED:20230301T224018Z
LAST-MODIFIED:20230301T224334Z
UID:10000135-1682141400-1682148600@www.virginiapubliclibrary.info
SUMMARY:Building Block Free Play
DESCRIPTION:Join us on the Library Upper Level to build with our building blocks\, Duplos\, and other toys!
URL:https://www.virginiapubliclibrary.info/event/building-block-free-play-3
ATTACH;FMTTYPE=image/png:https://www.virginiapubliclibrary.info/wp-content/uploads/2023/03/4-22-Lego-Pop-Up-Event.png
END:VEVENT
BEGIN:VEVENT
DTSTART;TZID=America/Chicago:20230421T053000
DTEND;TZID=America/Chicago:20230421T063000
DTSTAMP:20260420T000245
CREATED:20230113T041219Z
LAST-MODIFIED:20230228T231321Z
UID:10000084-1682055000-1682058600@www.virginiapubliclibrary.info
SUMMARY:Family Storytime (0-5 YRS)
DESCRIPTION:
URL:https://www.virginiapubliclibrary.info/event/family-storytime-0-5-yrs/2023-04-21
ATTACH;FMTTYPE=image/png:https://www.virginiapubliclibrary.info/wp-content/uploads/2023/01/2023-Spring-Family-Storytime-poster-schedule-Instagram-Post-Square.png
END:VEVENT
BEGIN:VEVENT
DTSTART;TZID=America/Chicago:20230419T093000
DTEND;TZID=America/Chicago:20230419T110000
DTSTAMP:20260420T000245
CREATED:20230126T041831Z
LAST-MODIFIED:20230316T194947Z
UID:10000105-1681896600-1681902000@www.virginiapubliclibrary.info
SUMMARY:Anime/Manga Club
DESCRIPTION:Let’s Make Koinobori! \n\n\n\nColor and create your own koinobori (Japanese Fish Kites)\, and learn a bit about this art form\, provided by the Japan House of London.
URL:https://www.virginiapubliclibrary.info/event/anime-manga-club-3
ATTACH;FMTTYPE=image/png:https://www.virginiapubliclibrary.info/wp-content/uploads/2023/03/04-19-23-AnimeManga-Club-Koinobori-Instagram-Post-Square.png
END:VEVENT
BEGIN:VEVENT
DTSTART;TZID=America/Chicago:20230418T053000
DTEND;TZID=America/Chicago:20230418T073000
DTSTAMP:20260420T000245
CREATED:20230206T234028Z
LAST-MODIFIED:20230328T024533Z
UID:10000130-1681795800-1681803000@www.virginiapubliclibrary.info
SUMMARY:Adult Painting Club (FULL ATTENDANCE MET)
DESCRIPTION:This program is FULL.
URL:https://www.virginiapubliclibrary.info/event/adult-painting-club/2023-04-18
ATTACH;FMTTYPE=image/png:https://www.virginiapubliclibrary.info/wp-content/uploads/2023/02/Your-paragraph-text2.png
END:VEVENT
BEGIN:VEVENT
DTSTART;TZID=America/Chicago:20230412T053000
DTEND;TZID=America/Chicago:20230412T063000
DTSTAMP:20260420T000245
CREATED:20230404T203744Z
LAST-MODIFIED:20230404T203746Z
UID:10000149-1681277400-1681281000@www.virginiapubliclibrary.info
SUMMARY:Mary Casanova Up North
DESCRIPTION:Join author Mary Casanova at North Star Elementary School in partnership with Virginia Public Library (Audience Grades 3-6). \n\n\n\nStraight out of college\, Mary Casanova and her husband followed their dream to live “up north.” Forty years and 40 books later\, Mary’s love of woods\, water\, and wilderness permeates her wide range of work. With heart and humor\, Mary Casanova entertains & educates as she shares her writing process\, including:  \n\n\n\n      *where ideas come from \n\n\n\n      *overcoming writer’s block \n\n\n\n      *doing the research \n\n\n\n      *drawing on the five senses \n\n\n\n      *mining personal experience \n\n\n\n      *creating strong beginnings . . . \n\n\n\nPersonable and engaging\, Mary Casanova tailors her visits to her audiences. For younger audiences\, she brings puppets and a canoe for an interactive audience performance of One-Dog Canoe. Depending on the audience and age group\, her presentations might include: \n\n\n\n*picture books (One-Dog Canoe\, Utterly Otterly Day\, Wake Up\, Island) and/or . . .   \n\n\n\n*early mysteries set in a northern village where dogs roam free (Dog Watch) and/or . . .  \n\n\n\n*kids’ adventure novels (Wolf Shadows\, Riot\, When Eagles Fall) and/or . . .   \n\n\n\n*gritty historical dramas set in 1920s northern MN (Frozen\, Ice-Out\, Waterfall).
URL:https://www.virginiapubliclibrary.info/event/mary-casanova-up-north
ATTACH;FMTTYPE=image/png:https://www.virginiapubliclibrary.info/wp-content/uploads/2023/04/LEGACY-WRITING-WORKSHOP-poster1-.png
END:VEVENT
BEGIN:VEVENT
DTSTART;TZID=America/Chicago:20230408T050000
DTEND;TZID=America/Chicago:20230408T090000
DTSTAMP:20260420T000245
CREATED:20230126T033219Z
LAST-MODIFIED:20230126T033346Z
UID:10000097-1680930000-1680944400@www.virginiapubliclibrary.info
SUMMARY:LIBRARY CLOSED
DESCRIPTION:The library is closed in observance of Good Friday.
URL:https://www.virginiapubliclibrary.info/event/library-closed-5
END:VEVENT
BEGIN:VEVENT
DTSTART;TZID=America/Chicago:20230407T050000
DTEND;TZID=America/Chicago:20230407T120000
DTSTAMP:20260420T000245
CREATED:20230126T013522Z
LAST-MODIFIED:20230126T013524Z
UID:10000095-1680843600-1680868800@www.virginiapubliclibrary.info
SUMMARY:LIBRARY CLOSED
DESCRIPTION:The library is closed in observance of Good Friday.
URL:https://www.virginiapubliclibrary.info/event/library-closed-3
END:VEVENT
BEGIN:VEVENT
DTSTART;TZID=America/Chicago:20230404T053000
DTEND;TZID=America/Chicago:20230404T063000
DTSTAMP:20260420T000245
CREATED:20230324T020851Z
LAST-MODIFIED:20230324T020852Z
UID:10000144-1680586200-1680589800@www.virginiapubliclibrary.info
SUMMARY:Baby Play Day
DESCRIPTION:Join us in the Children’s Room for free play Tuesdays\, featuring special toys and activities! These play days are designed for children 0-2 and their caregivers\, although older children can also participate.
URL:https://www.virginiapubliclibrary.info/event/baby-play-day
ATTACH;FMTTYPE=image/png:https://www.virginiapubliclibrary.info/wp-content/uploads/2023/03/2023-Apr-May-Tues-Baby-Play-Day-events-Instagram-Post-Square.png
END:VEVENT
BEGIN:VEVENT
DTSTART;TZID=America/Chicago:20230330T080000
DTEND;TZID=America/Chicago:20230330T090000
DTSTAMP:20260420T000245
CREATED:20230224T224704Z
LAST-MODIFIED:20230224T224707Z
UID:10000112-1680163200-1680166800@www.virginiapubliclibrary.info
SUMMARY:Book Club
DESCRIPTION:This month’s book club features the book “Locally Laid: How We Built a Plucky\, Industry-Changing Egg Farm from Scratch” by Lucie B. Amundsen \n\n\n\nLocally Laid
URL:https://www.virginiapubliclibrary.info/event/book-club-2
END:VEVENT
BEGIN:VEVENT
DTSTART;TZID=America/Chicago:20230325T053000
DTEND;TZID=America/Chicago:20230325T073000
DTSTAMP:20260420T000245
CREATED:20230301T223718Z
LAST-MODIFIED:20230301T224254Z
UID:10000134-1679722200-1679729400@www.virginiapubliclibrary.info
SUMMARY:Building Block Free Play
DESCRIPTION:Join us on the Library Upper Level to build with our building blocks\, Duplos\, and other toys!
URL:https://www.virginiapubliclibrary.info/event/building-block-free-play-2
ATTACH;FMTTYPE=image/png:https://www.virginiapubliclibrary.info/wp-content/uploads/2023/03/3-25-Lego-Pop-Up-Event.png
END:VEVENT
END:VCALENDAR