BEGIN:VCALENDAR
VERSION:2.0
PRODID:-//VIRGINIA PUBLIC LIBRARY - ECPv6.15.15//NONSGML v1.0//EN
CALSCALE:GREGORIAN
METHOD:PUBLISH
X-WR-CALNAME:VIRGINIA PUBLIC LIBRARY
X-ORIGINAL-URL:https://www.virginiapubliclibrary.info
X-WR-CALDESC:Events for VIRGINIA PUBLIC LIBRARY
REFRESH-INTERVAL;VALUE=DURATION:PT1H
X-Robots-Tag:noindex
X-PUBLISHED-TTL:PT1H
BEGIN:VTIMEZONE
TZID:America/Chicago
BEGIN:DAYLIGHT
TZOFFSETFROM:-0600
TZOFFSETTO:-0500
TZNAME:CDT
DTSTART:20220313T080000
END:DAYLIGHT
BEGIN:STANDARD
TZOFFSETFROM:-0500
TZOFFSETTO:-0600
TZNAME:CST
DTSTART:20221106T070000
END:STANDARD
BEGIN:DAYLIGHT
TZOFFSETFROM:-0600
TZOFFSETTO:-0500
TZNAME:CDT
DTSTART:20230312T080000
END:DAYLIGHT
BEGIN:STANDARD
TZOFFSETFROM:-0500
TZOFFSETTO:-0600
TZNAME:CST
DTSTART:20231105T070000
END:STANDARD
BEGIN:DAYLIGHT
TZOFFSETFROM:-0600
TZOFFSETTO:-0500
TZNAME:CDT
DTSTART:20240310T080000
END:DAYLIGHT
BEGIN:STANDARD
TZOFFSETFROM:-0500
TZOFFSETTO:-0600
TZNAME:CST
DTSTART:20241103T070000
END:STANDARD
END:VTIMEZONE
BEGIN:VEVENT
DTSTART;TZID=America/Chicago:20230118T060000
DTEND;TZID=America/Chicago:20230118T070000
DTSTAMP:20260422T034517
CREATED:20230113T024247Z
LAST-MODIFIED:20230113T024249Z
UID:10000070-1674021600-1674025200@www.virginiapubliclibrary.info
SUMMARY:Gardening Series: Planning Your Garden
DESCRIPTION:Join Janna Goerdt from Fat Chicken Farm at VPL.  Learn how to read a seed catalog and general vegetable garden planning and preparation.
URL:https://www.virginiapubliclibrary.info/event/gardening-series-planning-your-garden
ATTACH;FMTTYPE=image/png:https://www.virginiapubliclibrary.info/wp-content/uploads/2023/01/Gardening-Series.png
END:VEVENT
BEGIN:VEVENT
DTSTART;TZID=America/Chicago:20230109T040000
DTEND;TZID=America/Chicago:20230109T120000
DTSTAMP:20260422T034517
CREATED:20230126T222253Z
LAST-MODIFIED:20230126T222255Z
UID:10000120-1673236800-1673265600@www.virginiapubliclibrary.info
SUMMARY:Start of Winter Reading
DESCRIPTION:Starting today\, come into the library to pick up your “Yeti to Read” activity packet.
URL:https://www.virginiapubliclibrary.info/event/start-of-winter-reading
END:VEVENT
END:VCALENDAR