BEGIN:VCALENDAR
VERSION:2.0
PRODID:-//VIRGINIA PUBLIC LIBRARY - ECPv6.15.15//NONSGML v1.0//EN
CALSCALE:GREGORIAN
METHOD:PUBLISH
X-WR-CALNAME:VIRGINIA PUBLIC LIBRARY
X-ORIGINAL-URL:https://www.virginiapubliclibrary.info
X-WR-CALDESC:Events for VIRGINIA PUBLIC LIBRARY
REFRESH-INTERVAL;VALUE=DURATION:PT1H
X-Robots-Tag:noindex
X-PUBLISHED-TTL:PT1H
BEGIN:VTIMEZONE
TZID:America/Chicago
BEGIN:DAYLIGHT
TZOFFSETFROM:-0600
TZOFFSETTO:-0500
TZNAME:CDT
DTSTART:20220313T080000
END:DAYLIGHT
BEGIN:STANDARD
TZOFFSETFROM:-0500
TZOFFSETTO:-0600
TZNAME:CST
DTSTART:20221106T070000
END:STANDARD
BEGIN:DAYLIGHT
TZOFFSETFROM:-0600
TZOFFSETTO:-0500
TZNAME:CDT
DTSTART:20230312T080000
END:DAYLIGHT
BEGIN:STANDARD
TZOFFSETFROM:-0500
TZOFFSETTO:-0600
TZNAME:CST
DTSTART:20231105T070000
END:STANDARD
BEGIN:DAYLIGHT
TZOFFSETFROM:-0600
TZOFFSETTO:-0500
TZNAME:CDT
DTSTART:20240310T080000
END:DAYLIGHT
BEGIN:STANDARD
TZOFFSETFROM:-0500
TZOFFSETTO:-0600
TZNAME:CST
DTSTART:20241103T070000
END:STANDARD
END:VTIMEZONE
BEGIN:VEVENT
DTSTART;TZID=America/Chicago:20231115T143000
DTEND;TZID=America/Chicago:20231115T160000
DTSTAMP:20260421T193032
CREATED:20230816T012428Z
LAST-MODIFIED:20231102T163134Z
UID:10000240-1700058600-1700064000@www.virginiapubliclibrary.info
SUMMARY:Maker Lab: Sphero and 3D Doodle Pens
DESCRIPTION:Held in the library event room.  All ages welcome\, younger attendees may need adult or sibling assistance.
URL:https://www.virginiapubliclibrary.info/event/maker-lab-sphero-and-3d-doodle-pens
ATTACH;FMTTYPE=image/png:https://www.virginiapubliclibrary.info/wp-content/uploads/2023/08/11-15-23-Maker-Lab-Sphero-3D-Doodle-Pens-event.png
END:VEVENT
BEGIN:VEVENT
DTSTART;TZID=America/Chicago:20231114T160000
DTEND;TZID=America/Chicago:20231114T170000
DTSTAMP:20260421T193032
CREATED:20231113T164533Z
LAST-MODIFIED:20231113T164535Z
UID:10000301-1699977600-1699981200@www.virginiapubliclibrary.info
SUMMARY:Friends Of The Library Meeting
DESCRIPTION:
URL:https://www.virginiapubliclibrary.info/event/friends-of-the-library-meeting
END:VEVENT
BEGIN:VEVENT
DTSTART;TZID=America/Chicago:20231106T040000
DTEND;TZID=America/Chicago:20231111T080000
DTSTAMP:20260421T193032
CREATED:20230823T005134Z
LAST-MODIFIED:20231026T154807Z
UID:10000247-1699243200-1699689600@www.virginiapubliclibrary.info
SUMMARY:LIBRARY CLOSED
DESCRIPTION:The library will be closed in observance of Veterans Day and carpet installation.
URL:https://www.virginiapubliclibrary.info/event/library-closed-10
END:VEVENT
BEGIN:VEVENT
DTSTART;TZID=America/Chicago:20231101T143000
DTEND;TZID=America/Chicago:20231101T160000
DTSTAMP:20260421T193032
CREATED:20230815T214440Z
LAST-MODIFIED:20230928T223419Z
UID:10000237-1698849000-1698854400@www.virginiapubliclibrary.info
SUMMARY:Tabletop Testers "Catan"
DESCRIPTION:
URL:https://www.virginiapubliclibrary.info/event/tabletop-testers-catan
ATTACH;FMTTYPE=image/png:https://www.virginiapubliclibrary.info/wp-content/uploads/2023/08/11-01-23-Catan-Tabletop-Testers-USE.png
END:VEVENT
BEGIN:VEVENT
DTSTART;TZID=America/Chicago:20231031T103000
DTEND;TZID=America/Chicago:20231031T113000
DTSTAMP:20260421T193032
CREATED:20230919T144312Z
LAST-MODIFIED:20230919T144336Z
UID:10000258-1698748200-1698751800@www.virginiapubliclibrary.info
SUMMARY:Baby Storytime
DESCRIPTION:
URL:https://www.virginiapubliclibrary.info/event/baby-storytime-3/2023-10-31
ATTACH;FMTTYPE=image/png:https://www.virginiapubliclibrary.info/wp-content/uploads/2023/08/2023-Fall-Baby-Storytimes-instagram-post.png
END:VEVENT
BEGIN:VEVENT
DTSTART;TZID=America/Chicago:20231027T103000
DTEND;TZID=America/Chicago:20231027T113000
DTSTAMP:20260421T193032
CREATED:20230808T202101Z
LAST-MODIFIED:20230919T155129Z
UID:10000263-1698402600-1698406200@www.virginiapubliclibrary.info
SUMMARY:Family Storytime
DESCRIPTION:
URL:https://www.virginiapubliclibrary.info/event/family-storytime/2023-10-27
ATTACH;FMTTYPE=image/png:https://www.virginiapubliclibrary.info/wp-content/uploads/2023/08/2023-Fall-Family-Storytimes-instagram-post.png
END:VEVENT
BEGIN:VEVENT
DTSTART;TZID=America/Chicago:20231026T130000
DTEND;TZID=America/Chicago:20231026T143000
DTSTAMP:20260421T193032
CREATED:20230802T001106Z
LAST-MODIFIED:20230919T174704Z
UID:10000196-1698325200-1698330600@www.virginiapubliclibrary.info
SUMMARY:BOOK CLUB "I Know Why the Caged Bird Sings)
DESCRIPTION:Join us for the Virginia Public Library Book Club! All are welcome\, whether you read all of the book\, part of the book\, or none of the book! Join us for a lively discussion and light refreshments.   \n\n\n\nYou can request the book “I Know Why the Caged Bird Sings” by Maya Angelou via phone 218-748-7525 or on the library website (https://www.virginiapubliclibrary.info/) and pick it up at any Arrowhead Library System location
URL:https://www.virginiapubliclibrary.info/event/book-club-book-tbd
ATTACH;FMTTYPE=image/png:https://www.virginiapubliclibrary.info/wp-content/uploads/2023/08/Copy-of-Book-Club-1026.png
END:VEVENT
BEGIN:VEVENT
DTSTART;TZID=America/Chicago:20231025T153000
DTEND;TZID=America/Chicago:20231025T163000
DTSTAMP:20260421T193032
CREATED:20231016T184728Z
LAST-MODIFIED:20231016T184731Z
UID:10000300-1698247800-1698251400@www.virginiapubliclibrary.info
SUMMARY:"The Wizard of Oz" Preview put on by Lyric Center for the Arts
DESCRIPTION:Join us for a special preview of Lyric Center for the Arts’ youth edition of “The Wizard of Oz”  A song selection and ticket giveaway for the complete show will take place!
URL:https://www.virginiapubliclibrary.info/event/the-wizard-of-oz-preview-put-on-by-lyric-center-for-the-arts
ATTACH;FMTTYPE=image/png:https://www.virginiapubliclibrary.info/wp-content/uploads/2023/10/10-25-23-ozlibrary.png
END:VEVENT
BEGIN:VEVENT
DTSTART;TZID=America/Chicago:20231025T143000
DTEND;TZID=America/Chicago:20231025T153000
DTSTAMP:20260421T193032
CREATED:20230802T000837Z
LAST-MODIFIED:20231018T214051Z
UID:10000195-1698244200-1698247800@www.virginiapubliclibrary.info
SUMMARY:NaNoWriMo Writer's Kickoff
DESCRIPTION:National Novel Writing Month
URL:https://www.virginiapubliclibrary.info/event/nanowrimo-writers-kickoff
ATTACH;FMTTYPE=image/png:https://www.virginiapubliclibrary.info/wp-content/uploads/2023/10/NaNoWriMo-6.png
END:VEVENT
BEGIN:VEVENT
DTSTART;TZID=America/Chicago:20231024T120000
DTEND;TZID=America/Chicago:20231024T130000
DTSTAMP:20260421T193032
CREATED:20231003T204207Z
LAST-MODIFIED:20231011T194636Z
UID:10000299-1698148800-1698152400@www.virginiapubliclibrary.info
SUMMARY:Educational Outreach- Peace Corps Service in Swaziland with Joy Ausman
DESCRIPTION:Located in the library event room.
URL:https://www.virginiapubliclibrary.info/event/educational-outreach-peace-corps-service-in-swaziland-with-joy-ausman
ATTACH;FMTTYPE=image/png:https://www.virginiapubliclibrary.info/wp-content/uploads/2023/10/Joy-Peace-Corps-1.png
END:VEVENT
BEGIN:VEVENT
DTSTART;TZID=America/Chicago:20231021T110000
DTEND;TZID=America/Chicago:20231021T130000
DTSTAMP:20260421T193032
CREATED:20230616T214645Z
LAST-MODIFIED:20230919T155702Z
UID:10000178-1697886000-1697893200@www.virginiapubliclibrary.info
SUMMARY:Saturday Matinee "Clue"
DESCRIPTION:Join us in the library event room Saturday\, October 21st starting at 11:00am to enjoy the film “Clue”.
URL:https://www.virginiapubliclibrary.info/event/saturday-matinee-e-t
ATTACH;FMTTYPE=image/png:https://www.virginiapubliclibrary.info/wp-content/uploads/2023/06/3335A50C-CF96-4CDE-BF3C-3824C8B574A2.png
END:VEVENT
BEGIN:VEVENT
DTSTART;TZID=America/Chicago:20231020T100000
DTEND;TZID=America/Chicago:20231020T170000
DTSTAMP:20260421T193032
CREATED:20230816T012943Z
LAST-MODIFIED:20230919T155739Z
UID:10000268-1697796000-1697821200@www.virginiapubliclibrary.info
SUMMARY:Clue Escape Room
DESCRIPTION:Contact the library at 218-748-7525 (starting October 9th) to sign up your 1-6 person group.
URL:https://www.virginiapubliclibrary.info/event/clue-escape-room/2023-10-20
ATTACH;FMTTYPE=image/png:https://www.virginiapubliclibrary.info/wp-content/uploads/2023/08/2023-fall-clue-escape-room-Poster-Instagram-Post-Square.png
END:VEVENT
BEGIN:VEVENT
DTSTART;TZID=America/Chicago:20231018T143000
DTEND;TZID=America/Chicago:20231018T160000
DTSTAMP:20260421T193032
CREATED:20230809T210400Z
LAST-MODIFIED:20230928T223514Z
UID:10000235-1697639400-1697644800@www.virginiapubliclibrary.info
SUMMARY:Tabletop Testers "Clue"
DESCRIPTION:
URL:https://www.virginiapubliclibrary.info/event/tabletop-testers-clue
ATTACH;FMTTYPE=image/png:https://www.virginiapubliclibrary.info/wp-content/uploads/2023/08/10-18-23-Clue-Tabletop-Testers-USE.png
END:VEVENT
BEGIN:VEVENT
DTSTART;TZID=America/Chicago:20231014T103000
DTEND;TZID=America/Chicago:20231014T133000
DTSTAMP:20260421T193032
CREATED:20230802T000650Z
LAST-MODIFIED:20230921T211829Z
UID:10000194-1697279400-1697290200@www.virginiapubliclibrary.info
SUMMARY:Eclipse Viewing Party
DESCRIPTION:Join us in watching the partial annular eclipse and create your own nebula jar!  Eclipse glasses will be available at the library October 9th through the 14th.
URL:https://www.virginiapubliclibrary.info/event/eclipse-viewing-party
ATTACH;FMTTYPE=image/png:https://www.virginiapubliclibrary.info/wp-content/uploads/2023/08/Solar-Eclipse-Viewing-Party-3.png
END:VEVENT
BEGIN:VEVENT
DTSTART;TZID=America/Chicago:20231004T143000
DTEND;TZID=America/Chicago:20231004T160000
DTSTAMP:20260421T193032
CREATED:20230809T210300Z
LAST-MODIFIED:20230928T223547Z
UID:10000234-1696429800-1696435200@www.virginiapubliclibrary.info
SUMMARY:Wii Games
DESCRIPTION:
URL:https://www.virginiapubliclibrary.info/event/wii-games-2
ATTACH;FMTTYPE=image/png:https://www.virginiapubliclibrary.info/wp-content/uploads/2023/08/10-04-23-Fall-Wii-Games-Instagram-Post-Square-USE.png
END:VEVENT
BEGIN:VEVENT
DTSTART;TZID=America/Chicago:20230928T130000
DTEND;TZID=America/Chicago:20230928T143000
DTSTAMP:20260421T193032
CREATED:20230819T020626Z
LAST-MODIFIED:20230919T155505Z
UID:10000244-1695906000-1695911400@www.virginiapubliclibrary.info
SUMMARY:Moving Words: Writers Across Minnesota
DESCRIPTION:Enjoy a lively discussion with three multi-genre\, Minnesota Book Award-winning authors. Moving Words is an opportunity for writers and readers to explore various themes together: the impact of literature in their lives\, their connection as fellow Minnesotans\, and the lens through which we read.
URL:https://www.virginiapubliclibrary.info/event/moving-words-writers-across-minnesota
ATTACH;FMTTYPE=application/pdf:https://www.virginiapubliclibrary.info/wp-content/uploads/2023/08/Virginia-Eveleth-Flyer-8.5x11-MW-09-28-23.pdf
END:VEVENT
BEGIN:VEVENT
DTSTART;TZID=America/Chicago:20230921T103000
DTEND;TZID=America/Chicago:20230921T120000
DTSTAMP:20260421T193032
CREATED:20230731T200731Z
LAST-MODIFIED:20230919T141155Z
UID:10000190-1695292200-1695297600@www.virginiapubliclibrary.info
SUMMARY:Author Visit w/ Mary Anne Arendt
DESCRIPTION:
URL:https://www.virginiapubliclibrary.info/event/author-visit-w-mary-anne-arendt
ATTACH;FMTTYPE=image/png:https://www.virginiapubliclibrary.info/wp-content/uploads/2023/07/Author-Visit-Mary-Anne-Arendt.png
END:VEVENT
BEGIN:VEVENT
DTSTART;TZID=America/Chicago:20230920T143000
DTEND;TZID=America/Chicago:20230920T160000
DTSTAMP:20260421T193032
CREATED:20230802T000605Z
LAST-MODIFIED:20230919T173120Z
UID:10000193-1695220200-1695225600@www.virginiapubliclibrary.info
SUMMARY:Crafternoon: Button Making
DESCRIPTION:
URL:https://www.virginiapubliclibrary.info/event/crafternoon
ATTACH;FMTTYPE=image/png:https://www.virginiapubliclibrary.info/wp-content/uploads/2023/08/09-20-23-Button-Making-Crafternoon-11-×-8.5-in.png
END:VEVENT
BEGIN:VEVENT
DTSTART;TZID=America/Chicago:20230919T140000
DTEND;TZID=America/Chicago:20230919T150000
DTSTAMP:20260421T193032
CREATED:20230809T202022Z
LAST-MODIFIED:20230919T144647Z
UID:10000231-1695132000-1695135600@www.virginiapubliclibrary.info
SUMMARY:Tech Tuesday "Libby"
DESCRIPTION:Appointments limited to 10 minutes and on a first come first serve basis.
URL:https://www.virginiapubliclibrary.info/event/tech-tuesday-libby-2
ATTACH;FMTTYPE=image/png:https://www.virginiapubliclibrary.info/wp-content/uploads/2023/08/Tech-Tuesday-919.png
END:VEVENT
BEGIN:VEVENT
DTSTART;TZID=America/Chicago:20230917T100000
DTEND;TZID=America/Chicago:20230917T140000
DTSTAMP:20260421T193032
CREATED:20230808T210905Z
LAST-MODIFIED:20230919T144203Z
UID:10000222-1694944800-1694959200@www.virginiapubliclibrary.info
SUMMARY:Friends of the Virginia Public Library Booksale
DESCRIPTION:
URL:https://www.virginiapubliclibrary.info/event/friends-of-the-virginia-public-library-booksale-2
ATTACH;FMTTYPE=image/png:https://www.virginiapubliclibrary.info/wp-content/uploads/2023/01/Booksale.png
END:VEVENT
BEGIN:VEVENT
DTSTART;TZID=America/Chicago:20230916T150000
DTEND;TZID=America/Chicago:20230916T190000
DTSTAMP:20260421T193032
CREATED:20230823T004941Z
LAST-MODIFIED:20230919T173521Z
UID:10000272-1694876400-1694890800@www.virginiapubliclibrary.info
SUMMARY:LIBRARY CLOSED
DESCRIPTION:
URL:https://www.virginiapubliclibrary.info/event/library-closed-9/2023-09-16/2
END:VEVENT
BEGIN:VEVENT
DTSTART;TZID=America/Chicago:20230916T100000
DTEND;TZID=America/Chicago:20230916T170000
DTSTAMP:20260421T193032
CREATED:20230919T143908Z
LAST-MODIFIED:20230919T143910Z
UID:10000127-1694858400-1694883600@www.virginiapubliclibrary.info
SUMMARY:Friends of the Virginia Public Library Booksale
DESCRIPTION:
URL:https://www.virginiapubliclibrary.info/event/friends-of-the-virginia-public-library-booksale-3
LOCATION:Iron Trail Motors Event Center\, 919 6th St S\, Virginia\, Minnesota\, 55792\, United States
ATTACH;FMTTYPE=image/png:https://www.virginiapubliclibrary.info/wp-content/uploads/2023/01/Booksale.png
END:VEVENT
BEGIN:VEVENT
DTSTART;TZID=America/Chicago:20230913T150000
DTEND;TZID=America/Chicago:20230913T163000
DTSTAMP:20260421T193032
CREATED:20230808T210423Z
LAST-MODIFIED:20230913T163907Z
UID:10000220-1694617200-1694622600@www.virginiapubliclibrary.info
SUMMARY:Wii Games
DESCRIPTION:
URL:https://www.virginiapubliclibrary.info/event/wii-games
ATTACH;FMTTYPE=image/png:https://www.virginiapubliclibrary.info/wp-content/uploads/2023/08/09-13-23-Fall-Wii-Games-Instagram-Post-Square-USE.png
END:VEVENT
BEGIN:VEVENT
DTSTART;TZID=America/Chicago:20230912T140000
DTEND;TZID=America/Chicago:20230912T150000
DTSTAMP:20260421T193032
CREATED:20230809T202528Z
LAST-MODIFIED:20230919T143645Z
UID:10000233-1694527200-1694530800@www.virginiapubliclibrary.info
SUMMARY:Tech Tuesday "HelpNow"
DESCRIPTION:Learn how to get online homework help\, take free classes and more with HelpNow.
URL:https://www.virginiapubliclibrary.info/event/tech-tuesday-databases
ATTACH;FMTTYPE=image/png:https://www.virginiapubliclibrary.info/wp-content/uploads/2023/08/Tech-Tuesday-Sep-121.png
END:VEVENT
BEGIN:VEVENT
DTSTART;TZID=America/Chicago:20230912T100000
DTEND;TZID=America/Chicago:20230912T170000
DTSTAMP:20260421T193032
CREATED:20230919T143303Z
LAST-MODIFIED:20230919T143315Z
UID:10000184-1694512800-1694538000@www.virginiapubliclibrary.info
SUMMARY:Donation Dates for Friends of the Virginia Public Library Booksale
DESCRIPTION:Drop off your gently used books\, movies\, music\, games and puzzles at the Iron Trail Motors Event Center between 10:00am and 5:00pm to be sold in the Friends of the Virginia Public Library Booksale.  Signs will be posted on the doors where items can be dropped off.  Any items that are outdated (old textbooks/almanacs) or items that are too disheveled (mold/falling apart) will NOT be accepted.  Thank you for your generosity!
URL:https://www.virginiapubliclibrary.info/event/donation-dates-for-friends-of-the-virginia-public-library-booksale-2
LOCATION:Iron Trail Motors Event Center\, 919 6th St S\, Virginia\, Minnesota\, 55792\, United States
END:VEVENT
BEGIN:VEVENT
DTSTART;TZID=America/Chicago:20230909T110000
DTEND;TZID=America/Chicago:20230909T130000
DTSTAMP:20260421T193032
CREATED:20230616T214541Z
LAST-MODIFIED:20230919T143210Z
UID:10000177-1694257200-1694264400@www.virginiapubliclibrary.info
SUMMARY:Saturday Matinee "Grease"
DESCRIPTION:Join us in the library event room Saturday\, September 9th starting at 11:00am to enjoy the film “Grease”.
URL:https://www.virginiapubliclibrary.info/event/saturday-matinee-grease
ATTACH;FMTTYPE=image/png:https://www.virginiapubliclibrary.info/wp-content/uploads/2023/06/Saturday-Matinee-Sept-9th.png
END:VEVENT
BEGIN:VEVENT
DTSTART;TZID=America/Chicago:20230907T160000
DTEND;TZID=America/Chicago:20230907T170000
DTSTAMP:20260421T193032
CREATED:20230731T200356Z
LAST-MODIFIED:20230919T143110Z
UID:10000189-1694102400-1694106000@www.virginiapubliclibrary.info
SUMMARY:First Thursday "BIRDING"
DESCRIPTION:Interested in learning how to get started with “Birding” or where to go…Join us at the library for September’s First Thursday “Birding”
URL:https://www.virginiapubliclibrary.info/event/first-thursday-birding
ATTACH;FMTTYPE=image/png:https://www.virginiapubliclibrary.info/wp-content/uploads/2023/07/First-Thursday-Birding.png
END:VEVENT
BEGIN:VEVENT
DTSTART;TZID=America/Chicago:20230906T143000
DTEND;TZID=America/Chicago:20230906T153000
DTSTAMP:20260421T193032
CREATED:20230808T210519Z
LAST-MODIFIED:20230919T143016Z
UID:10000221-1694010600-1694014200@www.virginiapubliclibrary.info
SUMMARY:Tabletop Testers
DESCRIPTION:
URL:https://www.virginiapubliclibrary.info/event/tabletop-testers
ATTACH;FMTTYPE=image/png:https://www.virginiapubliclibrary.info/wp-content/uploads/2023/08/09-06-23-Monopoly-Tabletop-Testers.png
END:VEVENT
BEGIN:VEVENT
DTSTART;TZID=America/Chicago:20230905T140000
DTEND;TZID=America/Chicago:20230905T150000
DTSTAMP:20260421T193032
CREATED:20230809T201041Z
LAST-MODIFIED:20230919T142947Z
UID:10000230-1693922400-1693926000@www.virginiapubliclibrary.info
SUMMARY:Tech Tuesday "Libby"
DESCRIPTION:Appointments limited to 10 minutes and on a first come first serve basis.
URL:https://www.virginiapubliclibrary.info/event/tech-tuesday-libby
ATTACH;FMTTYPE=image/png:https://www.virginiapubliclibrary.info/wp-content/uploads/2023/08/Tech-Tuesday-95.png
END:VEVENT
BEGIN:VEVENT
DTSTART;TZID=America/Chicago:20230905T103000
DTEND;TZID=America/Chicago:20230905T113000
DTSTAMP:20260421T193032
CREATED:20230830T014729Z
LAST-MODIFIED:20230919T142834Z
UID:10000251-1693909800-1693913400@www.virginiapubliclibrary.info
SUMMARY:Children's Room Open House
DESCRIPTION:Join us for an open house in the library’s newly renovated Children’s Room! Play and socialize with families in the community\, learn about the library’s books and resources for children\, and pick up a schedule of our Fall events!
URL:https://www.virginiapubliclibrary.info/event/childrens-room-open-house
ATTACH;FMTTYPE=image/png:https://www.virginiapubliclibrary.info/wp-content/uploads/2023/08/09-05-2023-Childrens-Open-House.png
END:VEVENT
END:VCALENDAR